BEGIN:VCALENDAR
PRODID:-//Microsoft Corporation//Outlook 12.0 MIMEDIR//EN
VERSION:2.0
CALSCALE:GREGORIAN
BEGIN:VEVENT
UID: 741aac01-b7de-4fcb-b2fb-354eb41b0fd4
SUMMARY:ROHEJAHT
DTSTAMP:20250314T080000
DTSTART:20250314T080000
DTEND:20250325T160000
LOCATION:
DESCRIPTION: <p><strong>Hei, armas koolipere!</strong></p><p><strong>ROHEJAHT JÄTKUB kuni 25. märtsini</strong><br>Viimane võimalus tuua kodust:</p><ul><li><strong>Teeküünläümbrised</strong> – tühjaks põlenud alumiiniumist teeküünläümbrised</li><li><strong>Väike vanalelektroonika</strong> – nutipraht, mis enam ei tööta (telefonid, juhtmed, laadijad, sülearvutid, tahvelarvutid jne).</li></ul><p>Jäätmeid palume tuua kuni 25. märtsini kas kabinetti 312a või oma klassijuhatajale (kes hiljemalt 25.03 annab kõik edasi kabinetti 312a).</p><p><strong>Oleme rohesõbrad ning aitame muuta Eesti keskkonda rohelisemaks!</strong> 💚</p><p><strong>Link: </strong>https://www.laveg.edu.ee/et/sundmuste-kalender/rohejaht</p><p><strong>Hind: </strong></p>
STATUS:CONFIRMED
SEQUENCE:3
X-ALT-DESC;FMTTYPE=text/html:<p><strong>Hei, armas koolipere!</strong></p><p><strong>ROHEJAHT JÄTKUB kuni 25. märtsini</strong><br>Viimane võimalus tuua kodust:</p><ul><li><strong>Teeküünläümbrised</strong> – tühjaks põlenud alumiiniumist teeküünläümbrised</li><li><strong>Väike vanalelektroonika</strong> – nutipraht, mis enam ei tööta (telefonid, juhtmed, laadijad, sülearvutid, tahvelarvutid jne).</li></ul><p>Jäätmeid palume tuua kuni 25. märtsini kas kabinetti 312a või oma klassijuhatajale (kes hiljemalt 25.03 annab kõik edasi kabinetti 312a).</p><p><strong>Oleme rohesõbrad ning aitame muuta Eesti keskkonda rohelisemaks!</strong> 💚</p><p><strong>Link: </strong>https://www.laveg.edu.ee/et/sundmuste-kalender/rohejaht</p><p><strong>Hind: </strong></p>
X-MICROSOFT-CDO-BUSYSTATUS:OOF
X-MICROSOFT-CDO-IMPORTANCE:1
X-MICROSOFT-DISALLOW-COUNTER:FALSE
X-MS-OLK-ALLOWEXTERNCHECK:TRUE
X-MS-OLK-CONFTYPE:0
X-MICROSOFT-CDO-ALLDAYEVENT:
X-MICROSOFT-MSNCALENDAR-ALLDAYEVENT:
END:VEVENT
END:VCALENDAR